BEGIN:VCALENDAR
VERSION:2.0
PRODID:-//Igreja São Peregrino - ECPv6.15.20//NONSGML v1.0//EN
CALSCALE:GREGORIAN
METHOD:PUBLISH
X-WR-CALNAME:Igreja São Peregrino
X-ORIGINAL-URL:https://igrejasaoperegrinosjc.com.br
X-WR-CALDESC:Eventos para Igreja São Peregrino
REFRESH-INTERVAL;VALUE=DURATION:PT1H
X-Robots-Tag:noindex
X-PUBLISHED-TTL:PT1H
BEGIN:VTIMEZONE
TZID:America/Sao_Paulo
BEGIN:STANDARD
TZOFFSETFROM:-0300
TZOFFSETTO:-0300
TZNAME:-03
DTSTART:20240101T000000
END:STANDARD
END:VTIMEZONE
BEGIN:VEVENT
DTSTART;VALUE=DATE:20251115
DTEND;VALUE=DATE:20251116
DTSTAMP:20260423T154029
CREATED:20250131T000252Z
LAST-MODIFIED:20250131T000252Z
UID:2416-1763164800-1763251199@igrejasaoperegrinosjc.com.br
SUMMARY:Proclamação da República
DESCRIPTION:
URL:https://igrejasaoperegrinosjc.com.br/event/proclamacao-da-republica/
LOCATION:São Paulo
CATEGORIES:Missa
END:VEVENT
BEGIN:VEVENT
DTSTART;TZID=America/Sao_Paulo:20251104T190000
DTEND;TZID=America/Sao_Paulo:20251104T203000
DTSTAMP:20260423T154029
CREATED:20250129T232801Z
LAST-MODIFIED:20250129T232801Z
UID:2259-1762282800-1762288200@igrejasaoperegrinosjc.com.br
SUMMARY:Missa da Saúde
DESCRIPTION:Reúna sua família\, convide seus amigos\, organize a sua caravana e venha participar deste grande momento de Fé!
URL:https://igrejasaoperegrinosjc.com.br/event/missa-da-saude-20/
LOCATION:Igreja São Peregrino\, Avenida São João\, 2600\, São José dos Campos\, São Paulo\, 12242-000\, Brazil
CATEGORIES:Missa da Saúde
ATTACH;FMTTYPE=image/jpeg:https://igrejasaoperegrinosjc.com.br/wp-content/uploads/2025/01/SaoPeregrino.jpeg
END:VEVENT
BEGIN:VEVENT
DTSTART;TZID=America/Sao_Paulo:20251104T150000
DTEND;TZID=America/Sao_Paulo:20251104T163000
DTSTAMP:20260423T154029
CREATED:20250129T232647Z
LAST-MODIFIED:20250129T232647Z
UID:2257-1762268400-1762273800@igrejasaoperegrinosjc.com.br
SUMMARY:Missa da Saúde
DESCRIPTION:Reúna sua família\, convide seus amigos\, organize a sua caravana e venha participar deste grande momento de Fé!
URL:https://igrejasaoperegrinosjc.com.br/event/missa-da-saude-19/
LOCATION:Igreja São Peregrino\, Avenida São João\, 2600\, São José dos Campos\, São Paulo\, 12242-000\, Brazil
CATEGORIES:Missa da Saúde
ATTACH;FMTTYPE=image/jpeg:https://igrejasaoperegrinosjc.com.br/wp-content/uploads/2025/01/SaoPeregrino.jpeg
END:VEVENT
BEGIN:VEVENT
DTSTART;TZID=America/Sao_Paulo:20251102T100000
DTEND;TZID=America/Sao_Paulo:20251102T113000
DTSTAMP:20260423T154029
CREATED:20250131T000200Z
LAST-MODIFIED:20250131T000200Z
UID:2414-1762077600-1762083000@igrejasaoperegrinosjc.com.br
SUMMARY:Finados
DESCRIPTION:
URL:https://igrejasaoperegrinosjc.com.br/event/finados/
LOCATION:Igreja São Peregrino\, Avenida São João\, 2600\, São José dos Campos\, São Paulo\, 12242-000\, Brazil
CATEGORIES:Missa
END:VEVENT
BEGIN:VEVENT
DTSTART;TZID=America/Sao_Paulo:20251025T190000
DTEND;TZID=America/Sao_Paulo:20251025T200000
DTSTAMP:20260423T154029
CREATED:20250130T225841Z
LAST-MODIFIED:20250130T225841Z
UID:2391-1761418800-1761422400@igrejasaoperegrinosjc.com.br
SUMMARY:Bem-Aventurado João Ângelo de Milão
DESCRIPTION:João Ângelo nasceu no ducado de Milão em 1451. Ingressando na Ordem dos Servos\, viveu primeiro no convento milanês de Santa Maria e depois em Florença. Atraído pelo ideal da vida penitente e contemplativa\, mudou-se para o convento de Monte Senário\, onde permaneceu quase vinte anos\, Depois\, voltou para Milão e passou a dedicar-se à educação cristã das crianças. Morreu aos 23 de outubro de 1505. Foi proclamado Bem-aventurado por Clemente XII em 1737. \nFonte: Servitas Brasil\, 2025. Disponível em: https://servitasbrasil.org/site/maria/liturgia-osm/. Acesso em: 29 Jan 2025
URL:https://igrejasaoperegrinosjc.com.br/event/bem-aventurado-joao-angelo-de-milao/
LOCATION:Igreja São Peregrino\, Avenida São João\, 2600\, São José dos Campos\, São Paulo\, 12242-000\, Brazil
CATEGORIES:Missa
ATTACH;FMTTYPE=image/jpeg:https://igrejasaoperegrinosjc.com.br/wp-content/uploads/2025/01/BAJoaoAngelo25-10.jpg
END:VEVENT
BEGIN:VEVENT
DTSTART;TZID=America/Sao_Paulo:20251012T180000
DTEND;TZID=America/Sao_Paulo:20251012T193000
DTSTAMP:20260423T154029
CREATED:20250130T225319Z
LAST-MODIFIED:20250130T225319Z
UID:2389-1760292000-1760297400@igrejasaoperegrinosjc.com.br
SUMMARY:Nossa Senhora Aparecida e Dia das Crianças
DESCRIPTION:
URL:https://igrejasaoperegrinosjc.com.br/event/nossa-senhora-aparecida-e-dia-das-criancas/
LOCATION:Igreja São Peregrino\, Avenida São João\, 2600\, São José dos Campos\, São Paulo\, 12242-000\, Brazil
CATEGORIES:Missa
END:VEVENT
BEGIN:VEVENT
DTSTART;VALUE=DATE:20251009
DTEND;VALUE=DATE:20251012
DTSTAMP:20260423T154029
CREATED:20250130T225151Z
LAST-MODIFIED:20250130T225151Z
UID:2386-1759968000-1760227199@igrejasaoperegrinosjc.com.br
SUMMARY:Tríduo de Nossa Senhora Aparecida
DESCRIPTION:
URL:https://igrejasaoperegrinosjc.com.br/event/triduo-de-nossa-senhora-aparecida/
LOCATION:Igreja São Peregrino\, Avenida São João\, 2600\, São José dos Campos\, São Paulo\, 12242-000\, Brazil
CATEGORIES:Tríduo
END:VEVENT
BEGIN:VEVENT
DTSTART;TZID=America/Sao_Paulo:20251004T190000
DTEND;TZID=America/Sao_Paulo:20251004T203000
DTSTAMP:20260423T154029
CREATED:20250129T232534Z
LAST-MODIFIED:20250129T232534Z
UID:2255-1759604400-1759609800@igrejasaoperegrinosjc.com.br
SUMMARY:Missa da Saúde
DESCRIPTION:Reúna sua família\, convide seus amigos\, organize a sua caravana e venha participar deste grande momento de Fé!
URL:https://igrejasaoperegrinosjc.com.br/event/missa-da-saude-18/
LOCATION:Igreja São Peregrino\, Avenida São João\, 2600\, São José dos Campos\, São Paulo\, 12242-000\, Brazil
CATEGORIES:Missa da Saúde
ATTACH;FMTTYPE=image/jpeg:https://igrejasaoperegrinosjc.com.br/wp-content/uploads/2025/01/SaoPeregrino.jpeg
END:VEVENT
BEGIN:VEVENT
DTSTART;TZID=America/Sao_Paulo:20251004T150000
DTEND;TZID=America/Sao_Paulo:20251004T163000
DTSTAMP:20260423T154029
CREATED:20250129T232426Z
LAST-MODIFIED:20250129T232426Z
UID:2253-1759590000-1759595400@igrejasaoperegrinosjc.com.br
SUMMARY:Missa da Saúde
DESCRIPTION:Reúna sua família\, convide seus amigos\, organize a sua caravana e venha participar deste grande momento de Fé!
URL:https://igrejasaoperegrinosjc.com.br/event/missa-da-saude-17/
LOCATION:Igreja São Peregrino\, Avenida São João\, 2600\, São José dos Campos\, São Paulo\, 12242-000\, Brazil
CATEGORIES:Missa da Saúde
ATTACH;FMTTYPE=image/jpeg:https://igrejasaoperegrinosjc.com.br/wp-content/uploads/2025/01/SaoPeregrino.jpeg
END:VEVENT
BEGIN:VEVENT
DTSTART;TZID=America/Sao_Paulo:20251003T190000
DTEND;TZID=America/Sao_Paulo:20251003T200000
DTSTAMP:20260423T154029
CREATED:20250131T001535Z
LAST-MODIFIED:20250131T001535Z
UID:2429-1759518000-1759521600@igrejasaoperegrinosjc.com.br
SUMMARY:Bem-aventurada Maria Guadalupe Ricart Olmos
DESCRIPTION:Nasceu em Albal\, Valência\, Espanha\, aos 23 de fevereiro de 1881. Em 11 de junho de 1896 ingressou no mosteiro “Pié de la Cruz” de Valência\, das monjas Servas de Maria e emitiu os votos perpétuos em 19 de junho de 1900. Fiel à sua consagração religiosa\, marcou sua vida por uma constante meditação da paixão de Cristo e das dores da Virgem Maria. Em 1936\, durante a guerra civil espanhola\, foi obrigada a abandonar o mosteiro junto com as coirmãs. Refugiando-se na casa de uma irmã\, lá foi capturada e martirizada dia 2 de outubro do mesmo ano. Foi beatificada pelo papa João Paulo II aos 11 de março de 2001. \nFonte: Servitas Brasil\, 2025. Disponível em: https://servitasbrasil.org/site/maria/liturgia-osm/. Acesso em: 29 Jan 2025
URL:https://igrejasaoperegrinosjc.com.br/event/bem-aventurada-maria-guadalupe-ricart-olmos/
LOCATION:Igreja São Peregrino\, Avenida São João\, 2600\, São José dos Campos\, São Paulo\, 12242-000\, Brazil
CATEGORIES:Missa
ATTACH;FMTTYPE=image/jpeg:https://igrejasaoperegrinosjc.com.br/wp-content/uploads/2025/01/BAMariaGuadalupe03-10.jpg
END:VEVENT
BEGIN:VEVENT
DTSTART;TZID=America/Sao_Paulo:20250922T190000
DTEND;TZID=America/Sao_Paulo:20250922T200000
DTSTAMP:20260423T154029
CREATED:20250130T225019Z
LAST-MODIFIED:20250130T225019Z
UID:2384-1758567600-1758571200@igrejasaoperegrinosjc.com.br
SUMMARY:Dedicação da Basílica de Monte Senário
DESCRIPTION:
URL:https://igrejasaoperegrinosjc.com.br/event/dedicacao-da-basilica-de-monte-senario/
LOCATION:Igreja São Peregrino\, Avenida São João\, 2600\, São José dos Campos\, São Paulo\, 12242-000\, Brazil
CATEGORIES:Missa
END:VEVENT
BEGIN:VEVENT
DTSTART;TZID=America/Sao_Paulo:20250917T190000
DTEND;TZID=America/Sao_Paulo:20250917T200000
DTSTAMP:20260423T154029
CREATED:20250131T001853Z
LAST-MODIFIED:20250131T001853Z
UID:2432-1758135600-1758139200@igrejasaoperegrinosjc.com.br
SUMMARY:Bem-aventurada Cecília Eusepi
DESCRIPTION:Nasceu no dia 17 de fevereiro de 1910 na cidade de Monte Romano (Viterbo). Ficou orfã de pai muito cedo e foi acolhida\, juntamento com sua mãe\, em Nepi na casa do tio materno\, o qual a confiou às monjas Cistercienses. No mosteiro frequentou por 7 anos a escola elementar e foi iniciado na vida espíritual. No mesmo mosteiro conheceu os frades Servos de Maria\, os quais eram confessores das monjas. No dia 17 de setembro de 1922 entrou para a Ordem Terceira dos Servos de Maria na Fraternidade de Nepi. Em 1923 foi acolhida como postulante das Servas de Maria Manteladas de Pistóia. Após três anos\, por motivos de saúde\, retornou à casa do tio em Nepi. Atormentada por uma grave doença\, suportou muitos sofrimentos\, crescendo no amor por Cristo e conformada à Mãe das Dores. Morreu no dia 01 de outubro de 1928. \nFonte: Servitas Brasil\, 2025. Disponível em: https://servitasbrasil.org/site/maria/liturgia-osm/. Acesso em: 29 Jan 2025
URL:https://igrejasaoperegrinosjc.com.br/event/bem-aventurada-cecilia-eusepi/
LOCATION:São Paulo
CATEGORIES:Missa
ATTACH;FMTTYPE=image/jpeg:https://igrejasaoperegrinosjc.com.br/wp-content/uploads/2025/01/BACecilia17-10.jpg
END:VEVENT
BEGIN:VEVENT
DTSTART;TZID=America/Sao_Paulo:20250915T190000
DTEND;TZID=America/Sao_Paulo:20250915T203000
DTSTAMP:20260423T154029
CREATED:20250130T224918Z
LAST-MODIFIED:20250130T224918Z
UID:2382-1757962800-1757968200@igrejasaoperegrinosjc.com.br
SUMMARY:Nossa Senhora das Dores
DESCRIPTION:
URL:https://igrejasaoperegrinosjc.com.br/event/nossa-senhora-das-dores/
LOCATION:Igreja São Peregrino\, Avenida São João\, 2600\, São José dos Campos\, São Paulo\, 12242-000\, Brazil
CATEGORIES:Missa
END:VEVENT
BEGIN:VEVENT
DTSTART;TZID=America/Sao_Paulo:20250907T180000
DTEND;TZID=America/Sao_Paulo:20250907T190000
DTSTAMP:20260423T154029
CREATED:20250131T000009Z
LAST-MODIFIED:20250131T000009Z
UID:2412-1757268000-1757271600@igrejasaoperegrinosjc.com.br
SUMMARY:Independência do Brasil
DESCRIPTION:
URL:https://igrejasaoperegrinosjc.com.br/event/independencia-do-brasil/
LOCATION:Igreja São Peregrino\, Avenida São João\, 2600\, São José dos Campos\, São Paulo\, 12242-000\, Brazil
CATEGORIES:Missa
END:VEVENT
BEGIN:VEVENT
DTSTART;TZID=America/Sao_Paulo:20250906T190000
DTEND;TZID=America/Sao_Paulo:20250906T200000
DTSTAMP:20260423T154029
CREATED:20250130T224701Z
LAST-MODIFIED:20250130T224701Z
UID:2377-1757185200-1757188800@igrejasaoperegrinosjc.com.br
SUMMARY:Bem-Aventurado Boaventura de Forli
DESCRIPTION:Boaventura nasceu em Forli\, na região italiana da Romanha\, por volta de 1410. Entrando na Ordem dos Servos de Maria\, dedicou-se aos estudos e obteve o título de mestre em teologia. Em suas pregações\, mostrou sempre grande coragem e sabedoria. Ocupou vários cargos na Ordem e exerceu-os com grande equílibrio. Amava a penitência e a solidão. Promoveu nas comunidades a observância regular. Morreu em Udine\, na região friulana\, em 1491\, e seu corpo aí repousa\, no Santuário de Nossa Senhora das Graças. Pio X aprovou seu culto em 1911. \nFonte: Servitas Brasil\, 2025. Disponível em: https://servitasbrasil.org/site/maria/liturgia-osm/. Acesso em: 29 Jan 2025 \n 
URL:https://igrejasaoperegrinosjc.com.br/event/bem-aventurado-boaventura-de-forli/
LOCATION:Igreja São Peregrino\, Avenida São João\, 2600\, São José dos Campos\, São Paulo\, 12242-000\, Brazil
CATEGORIES:Missa
ATTACH;FMTTYPE=image/jpeg:https://igrejasaoperegrinosjc.com.br/wp-content/uploads/2025/01/BABoaventura06-09.jpg
END:VEVENT
BEGIN:VEVENT
DTSTART;VALUE=DATE:20250906
DTEND;VALUE=DATE:20250915
DTSTAMP:20260423T154029
CREATED:20250130T224820Z
LAST-MODIFIED:20250130T224820Z
UID:2380-1757116800-1757894399@igrejasaoperegrinosjc.com.br
SUMMARY:Novena Nossa Senhora das Dores
DESCRIPTION:
URL:https://igrejasaoperegrinosjc.com.br/event/novena-nossa-senhora-das-dores/
LOCATION:Igreja São Peregrino\, Avenida São João\, 2600\, São José dos Campos\, São Paulo\, 12242-000\, Brazil
CATEGORIES:Novena
END:VEVENT
BEGIN:VEVENT
DTSTART;TZID=America/Sao_Paulo:20250905T190000
DTEND;TZID=America/Sao_Paulo:20250905T200000
DTSTAMP:20260423T154029
CREATED:20250131T000947Z
LAST-MODIFIED:20250131T000947Z
UID:2424-1757098800-1757102400@igrejasaoperegrinosjc.com.br
SUMMARY:Bem-Aventurada Maria Madalena da Paixão Starace
DESCRIPTION:Madalena Starace nasceu aos 5 de setembro de 1845 em Castallammare di Stabia\, Nápoles\, Itália. Foi batizada no mesmo dia com o nome de Constança e foi consagrada pela mãe à Nossa Senhora das Dores. Desde a adolescência alimentou o desejo de ser religiosa\, mas não pode concretizá-lo por motivos de saúde. Em 1865 ingressou na Ordem Terceira dos Servos de Maria\, tomando o nome de Maria Madalena da Paixão. Dedicou-se com zelo à assistência de órfãos e de meninas abandonadas. Nesse serviço juntaram-se a ela algumas jovens piedosas que formaram o primeiro núcleo do Instituto das Irmãs Compassionistas Servas de Maria\, erigido canonicamente em 27 de maio de 1871 pelo bispo diocesano de Castellammare\, dom Francisco Xavier Petagna. Em 1 de novembro de 1893\, o Instituto foi agregado à Ordem dos Servos de Maria. Maria Madalena morreu em 13 de dezembro de 1921. Foi beatificada em 15 de abril de 2007 pelo papa Bento XVI. Seu corpo é venerado no santuário do Sagrado Coração de Jesus e de Nossa Senhora das Dores\, em Castellammare di Stabia. \nFonte: Servitas Brasil\, 2025. Disponível em: https://servitasbrasil.org/site/maria/liturgia-osm/. Acesso em: 29 Jan 2025
URL:https://igrejasaoperegrinosjc.com.br/event/bem-aventurada-maria-madalena-da-paixao-starace/
LOCATION:São Paulo
CATEGORIES:Missa
ATTACH;FMTTYPE=image/jpeg:https://igrejasaoperegrinosjc.com.br/wp-content/uploads/2025/01/BAMariaMadalenaStarace05-09.jpg
END:VEVENT
BEGIN:VEVENT
DTSTART;TZID=America/Sao_Paulo:20250904T190000
DTEND;TZID=America/Sao_Paulo:20250904T203000
DTSTAMP:20260423T154029
CREATED:20250129T232322Z
LAST-MODIFIED:20250129T232322Z
UID:2251-1757012400-1757017800@igrejasaoperegrinosjc.com.br
SUMMARY:Missa da Saúde
DESCRIPTION:Reúna sua família\, convide seus amigos\, organize a sua caravana e venha participar deste grande momento de Fé!
URL:https://igrejasaoperegrinosjc.com.br/event/missa-da-saude-16/
LOCATION:Igreja São Peregrino\, Avenida São João\, 2600\, São José dos Campos\, São Paulo\, 12242-000\, Brazil
CATEGORIES:Missa da Saúde
ATTACH;FMTTYPE=image/jpeg:https://igrejasaoperegrinosjc.com.br/wp-content/uploads/2025/01/SaoPeregrino.jpeg
END:VEVENT
BEGIN:VEVENT
DTSTART;TZID=America/Sao_Paulo:20250904T150000
DTEND;TZID=America/Sao_Paulo:20250904T163000
DTSTAMP:20260423T154029
CREATED:20250129T232023Z
LAST-MODIFIED:20250129T232023Z
UID:2249-1756998000-1757003400@igrejasaoperegrinosjc.com.br
SUMMARY:Missa da Saúde
DESCRIPTION:Reúna sua família\, convide seus amigos\, organize a sua caravana e venha participar deste grande momento de Fé!
URL:https://igrejasaoperegrinosjc.com.br/event/missa-da-saude-15/
LOCATION:Igreja São Peregrino\, Avenida São João\, 2600\, São José dos Campos\, São Paulo\, 12242-000\, Brazil
CATEGORIES:Missa da Saúde
ATTACH;FMTTYPE=image/jpeg:https://igrejasaoperegrinosjc.com.br/wp-content/uploads/2025/01/SaoPeregrino.jpeg
END:VEVENT
BEGIN:VEVENT
DTSTART;TZID=America/Sao_Paulo:20250901T190000
DTEND;TZID=America/Sao_Paulo:20250901T200000
DTSTAMP:20260423T154029
CREATED:20250130T223540Z
LAST-MODIFIED:20250130T223540Z
UID:2374-1756753200-1756756800@igrejasaoperegrinosjc.com.br
SUMMARY:Bem-Aventurada Joana de Florença
DESCRIPTION:Joana nasceu em Florença\, no primeiro século da Ordem dos Servos de Maria. Ingressando na Ordem Terceira\, consagrou-se à Virgem Maria por meio de uma vida casta e penitente. Algumas antigas pinturas representam-na entre os santos mas ilustres da Ordem. Seu culto foi aprovado por Leão XII em 1828. \nFonte: Servitas Brasil\, 2025. Disponível em: https://servitasbrasil.org/site/maria/liturgia-osm/. Acesso em: 29 Jan 2025
URL:https://igrejasaoperegrinosjc.com.br/event/bem-aventurada-joana-de-florenca/
LOCATION:Igreja São Peregrino\, Avenida São João\, 2600\, São José dos Campos\, São Paulo\, 12242-000\, Brazil
CATEGORIES:Missa
ATTACH;FMTTYPE=image/jpeg:https://igrejasaoperegrinosjc.com.br/wp-content/uploads/2025/01/BAJoana01-09.jpg
END:VEVENT
BEGIN:VEVENT
DTSTART;TZID=America/Sao_Paulo:20250831T180000
DTEND;TZID=America/Sao_Paulo:20250831T193000
DTSTAMP:20260423T154029
CREATED:20250130T223054Z
LAST-MODIFIED:20250130T223054Z
UID:2367-1756663200-1756668600@igrejasaoperegrinosjc.com.br
SUMMARY:Bem-Aventurado André de Sansepolcro
DESCRIPTION:André ingressou no convento dos Servos de Maria de “Borgo Sansepolcro”\, Toscana\, Itália\, em 1278\, atraído pelas palavras e pelo exemplo de São FIlipe. Amante da penitência e da solidão\, foi viver num eremitério\, nos arredores de Sansepolcro. Outros eremitas\, atraídos por seu exemplo\, unirarm-se a ele\, escolheram-no como guia espiritual\, e passaram a fazer parte da Ordem dos Servos de Maria. Morreu em 1315\, enquanto rezava. Seu culto foi aprovado por Pio VII em 1806. \nFonte: Servitas Brasil\, 2025. Disponível em: https://servitasbrasil.org/site/maria/liturgia-osm/. Acesso em: 29 Jan 2025
URL:https://igrejasaoperegrinosjc.com.br/event/bem-aventurado-andre-de-sansepolcro/
LOCATION:Igreja São Peregrino\, Avenida São João\, 2600\, São José dos Campos\, São Paulo\, 12242-000\, Brazil
CATEGORIES:Missa
ATTACH;FMTTYPE=image/jpeg:https://igrejasaoperegrinosjc.com.br/wp-content/uploads/2025/01/BAAndre31-08.jpg
END:VEVENT
BEGIN:VEVENT
DTSTART;TZID=America/Sao_Paulo:20250828T190000
DTEND;TZID=America/Sao_Paulo:20250828T200000
DTSTAMP:20260423T154029
CREATED:20250130T223152Z
LAST-MODIFIED:20250130T223152Z
UID:2370-1756407600-1756411200@igrejasaoperegrinosjc.com.br
SUMMARY:Santo Agostinho
DESCRIPTION:
URL:https://igrejasaoperegrinosjc.com.br/event/santo-agostinho/
LOCATION:Igreja São Peregrino\, Avenida São João\, 2600\, São José dos Campos\, São Paulo\, 12242-000\, Brazil
CATEGORIES:Missa
END:VEVENT
BEGIN:VEVENT
DTSTART;TZID=America/Sao_Paulo:20250823T190000
DTEND;TZID=America/Sao_Paulo:20250823T200000
DTSTAMP:20260423T154029
CREATED:20250130T222802Z
LAST-MODIFIED:20250130T222802Z
UID:2364-1755975600-1755979200@igrejasaoperegrinosjc.com.br
SUMMARY:São Filipe Benizi
DESCRIPTION:Filipe nasceu em Florença\, Itália\, no início do século XIII. Entrou na Ordem dos Servos de Maria como irmão leigo. Alguns anos depois\, sua ciência tornou-se providencialmente conhecida\, sendo então ordenado presbítero. Eleito prior geral em 1267\, ocupou o cargo até a morte. Governou a Ordem com grande equilíbrio\, dotando-a de uma sábia legislação\, defendendo com tenacidade sua sobrevivência e tornando-a célebre com sua santidade. Recebeu na Ordem muitos irmãos\, estes também homens de grande dedicação à vida religiosa\, que tinham São Filipe em conta de mestre e modelo de vida evangélica e de serviço à Virgem Maria. Com razão\, pois\, é tido como um dos Pais da Ordem. Morreu em 1285 em Todi\, na Úmbria\, onde ainda hoje seu corpo é venerado. Foi canonizado por Clemente X em 1671. \nFonte: Servitas Brasil\, 2025. Disponível em: https://servitasbrasil.org/site/maria/liturgia-osm/. Acesso em: 29 Jan 2025
URL:https://igrejasaoperegrinosjc.com.br/event/sao-filipe-benizi/
LOCATION:Igreja São Peregrino\, Avenida São João\, 2600\, São José dos Campos\, São Paulo\, 12242-000\, Brazil
CATEGORIES:Missa
ATTACH;FMTTYPE=image/jpeg:https://igrejasaoperegrinosjc.com.br/wp-content/uploads/2025/01/SaoFilipeBenzi23-08.jpg
END:VEVENT
BEGIN:VEVENT
DTSTART;TZID=America/Sao_Paulo:20250816T190000
DTEND;TZID=America/Sao_Paulo:20250816T203000
DTSTAMP:20260423T154029
CREATED:20250130T223248Z
LAST-MODIFIED:20250130T223248Z
UID:2372-1755370800-1755376200@igrejasaoperegrinosjc.com.br
SUMMARY:Votos Solenes OSM
DESCRIPTION:
URL:https://igrejasaoperegrinosjc.com.br/event/votos-solenes-osm/
LOCATION:Igreja São Peregrino\, Avenida São João\, 2600\, São José dos Campos\, São Paulo\, 12242-000\, Brazil
CATEGORIES:Missa
END:VEVENT
BEGIN:VEVENT
DTSTART;TZID=America/Sao_Paulo:20250815T190000
DTEND;TZID=America/Sao_Paulo:20250815T203000
DTSTAMP:20260423T154029
CREATED:20250130T221625Z
LAST-MODIFIED:20250130T221625Z
UID:2362-1755284400-1755289800@igrejasaoperegrinosjc.com.br
SUMMARY:Assunção de Nossa Senhora e Fundação da Ordem dos Servos de Maria
DESCRIPTION:
URL:https://igrejasaoperegrinosjc.com.br/event/assuncao-de-nossa-senhora-e-fundacao-da-ordem-dos-servos-de-maria/
LOCATION:Igreja São Peregrino\, Avenida São João\, 2600\, São José dos Campos\, São Paulo\, 12242-000\, Brazil
CATEGORIES:Missa
END:VEVENT
BEGIN:VEVENT
DTSTART;TZID=America/Sao_Paulo:20250804T190000
DTEND;TZID=America/Sao_Paulo:20250804T203000
DTSTAMP:20260423T154029
CREATED:20250129T231924Z
LAST-MODIFIED:20250129T231924Z
UID:2247-1754334000-1754339400@igrejasaoperegrinosjc.com.br
SUMMARY:Missa da Saúde
DESCRIPTION:Reúna sua família\, convide seus amigos\, organize a sua caravana e venha participar deste grande momento de Fé!
URL:https://igrejasaoperegrinosjc.com.br/event/missa-da-saude-14/
LOCATION:Igreja São Peregrino\, Avenida São João\, 2600\, São José dos Campos\, São Paulo\, 12242-000\, Brazil
CATEGORIES:Missa da Saúde
ATTACH;FMTTYPE=image/jpeg:https://igrejasaoperegrinosjc.com.br/wp-content/uploads/2025/01/SaoPeregrino.jpeg
END:VEVENT
BEGIN:VEVENT
DTSTART;TZID=America/Sao_Paulo:20250804T150000
DTEND;TZID=America/Sao_Paulo:20250804T163000
DTSTAMP:20260423T154029
CREATED:20250129T231802Z
LAST-MODIFIED:20250129T231802Z
UID:2245-1754319600-1754325000@igrejasaoperegrinosjc.com.br
SUMMARY:Missa da Saúde
DESCRIPTION:Reúna sua família\, convide seus amigos\, organize a sua caravana e venha participar deste grande momento de Fé!
URL:https://igrejasaoperegrinosjc.com.br/event/missa-da-saude-13/
LOCATION:Igreja São Peregrino\, Avenida São João\, 2600\, São José dos Campos\, São Paulo\, 12242-000\, Brazil
CATEGORIES:Missa da Saúde
ATTACH;FMTTYPE=image/jpeg:https://igrejasaoperegrinosjc.com.br/wp-content/uploads/2025/01/SaoPeregrino.jpeg
END:VEVENT
BEGIN:VEVENT
DTSTART;TZID=America/Sao_Paulo:20250715T190000
DTEND;TZID=America/Sao_Paulo:20250715T203000
DTSTAMP:20260423T154029
CREATED:20250130T220125Z
LAST-MODIFIED:20250130T220125Z
UID:2348-1752606000-1752611400@igrejasaoperegrinosjc.com.br
SUMMARY:Ordenação Sacerdotal Frei Rinaldo
DESCRIPTION:
URL:https://igrejasaoperegrinosjc.com.br/event/ordenacao-sacerdotal-frei-rinaldo/
LOCATION:Igreja São Peregrino\, Avenida São João\, 2600\, São José dos Campos\, São Paulo\, 12242-000\, Brazil
CATEGORIES:Missa
END:VEVENT
BEGIN:VEVENT
DTSTART;TZID=America/Sao_Paulo:20250713T180000
DTEND;TZID=America/Sao_Paulo:20250713T190000
DTSTAMP:20260423T154029
CREATED:20250130T221439Z
LAST-MODIFIED:20250130T221439Z
UID:2359-1752429600-1752433200@igrejasaoperegrinosjc.com.br
SUMMARY:Santa Clélia
DESCRIPTION:Clélia nasceu em Le Budrie\, na diocese de Bolonha\, Itália\, aos 13 de fevereiro de 1847. De família pobre\, recebeu\, desde pequena\, esmarada educação. Em 1868\, ela e três companheiras reuniram-se em comunidade\, passando a dedicar-se inteiramente à educação das meninas abandonadas. Morreu em Le Budrie\, em 1870\, quando tinha 23 anos de idade. Seu corpo está aí sepultado e exposto a veneração pública. Foi beatificada por Paulo VI a 27 de outubro de 1968\, e canonizada por João Paulo II a 9 de abril de 1989. Do pequeno grupo inicial\, superadas as dificuldades\, originou-se a Congregação das Irmãs Mínimas de Nossa Senhora das Dores. \nFonte: Servitas Brasil\, 2025. Disponível em: https://servitasbrasil.org/site/maria/liturgia-osm/. Acesso em: 29 Jan 2025
URL:https://igrejasaoperegrinosjc.com.br/event/santa-clelia/
LOCATION:Igreja São Peregrino\, Avenida São João\, 2600\, São José dos Campos\, São Paulo\, 12242-000\, Brazil
CATEGORIES:Missa
ATTACH;FMTTYPE=image/jpeg:https://igrejasaoperegrinosjc.com.br/wp-content/uploads/2025/01/StaClelia13-07.jpg
END:VEVENT
BEGIN:VEVENT
DTSTART;VALUE=DATE:20250711
DTEND;VALUE=DATE:20250714
DTSTAMP:20260423T154029
CREATED:20250130T220905Z
LAST-MODIFIED:20250130T220905Z
UID:2355-1752192000-1752451199@igrejasaoperegrinosjc.com.br
SUMMARY:Festa Junina
DESCRIPTION:
URL:https://igrejasaoperegrinosjc.com.br/event/festa-junina-3/
LOCATION:Igreja São Peregrino\, Avenida São João\, 2600\, São José dos Campos\, São Paulo\, 12242-000\, Brazil
CATEGORIES:Festa Junina
END:VEVENT
END:VCALENDAR