BEGIN:VCALENDAR
VERSION:2.0
PRODID:-//Igreja São Peregrino - ECPv6.15.20//NONSGML v1.0//EN
CALSCALE:GREGORIAN
METHOD:PUBLISH
X-ORIGINAL-URL:https://igrejasaoperegrinosjc.com.br
X-WR-CALDESC:Eventos para Igreja São Peregrino
REFRESH-INTERVAL;VALUE=DURATION:PT1H
X-Robots-Tag:noindex
X-PUBLISHED-TTL:PT1H
BEGIN:VTIMEZONE
TZID:America/Sao_Paulo
BEGIN:STANDARD
TZOFFSETFROM:-0300
TZOFFSETTO:-0300
TZNAME:-03
DTSTART:20240101T000000
END:STANDARD
END:VTIMEZONE
BEGIN:VEVENT
DTSTART;TZID=America/Sao_Paulo:20250831T180000
DTEND;TZID=America/Sao_Paulo:20250831T193000
DTSTAMP:20260423T191815
CREATED:20250130T223054Z
LAST-MODIFIED:20250130T223054Z
UID:2367-1756663200-1756668600@igrejasaoperegrinosjc.com.br
SUMMARY:Bem-Aventurado André de Sansepolcro
DESCRIPTION:André ingressou no convento dos Servos de Maria de “Borgo Sansepolcro”\, Toscana\, Itália\, em 1278\, atraído pelas palavras e pelo exemplo de São FIlipe. Amante da penitência e da solidão\, foi viver num eremitério\, nos arredores de Sansepolcro. Outros eremitas\, atraídos por seu exemplo\, unirarm-se a ele\, escolheram-no como guia espiritual\, e passaram a fazer parte da Ordem dos Servos de Maria. Morreu em 1315\, enquanto rezava. Seu culto foi aprovado por Pio VII em 1806. \nFonte: Servitas Brasil\, 2025. Disponível em: https://servitasbrasil.org/site/maria/liturgia-osm/. Acesso em: 29 Jan 2025
URL:https://igrejasaoperegrinosjc.com.br/event/bem-aventurado-andre-de-sansepolcro/
LOCATION:Igreja São Peregrino\, Avenida São João\, 2600\, São José dos Campos\, São Paulo\, 12242-000\, Brazil
CATEGORIES:Missa
ATTACH;FMTTYPE=image/jpeg:https://igrejasaoperegrinosjc.com.br/wp-content/uploads/2025/01/BAAndre31-08.jpg
END:VEVENT
BEGIN:VEVENT
DTSTART;TZID=America/Sao_Paulo:20250828T190000
DTEND;TZID=America/Sao_Paulo:20250828T200000
DTSTAMP:20260423T191815
CREATED:20250130T223152Z
LAST-MODIFIED:20250130T223152Z
UID:2370-1756407600-1756411200@igrejasaoperegrinosjc.com.br
SUMMARY:Santo Agostinho
DESCRIPTION:
URL:https://igrejasaoperegrinosjc.com.br/event/santo-agostinho/
LOCATION:Igreja São Peregrino\, Avenida São João\, 2600\, São José dos Campos\, São Paulo\, 12242-000\, Brazil
CATEGORIES:Missa
END:VEVENT
BEGIN:VEVENT
DTSTART;TZID=America/Sao_Paulo:20250823T190000
DTEND;TZID=America/Sao_Paulo:20250823T200000
DTSTAMP:20260423T191815
CREATED:20250130T222802Z
LAST-MODIFIED:20250130T222802Z
UID:2364-1755975600-1755979200@igrejasaoperegrinosjc.com.br
SUMMARY:São Filipe Benizi
DESCRIPTION:Filipe nasceu em Florença\, Itália\, no início do século XIII. Entrou na Ordem dos Servos de Maria como irmão leigo. Alguns anos depois\, sua ciência tornou-se providencialmente conhecida\, sendo então ordenado presbítero. Eleito prior geral em 1267\, ocupou o cargo até a morte. Governou a Ordem com grande equilíbrio\, dotando-a de uma sábia legislação\, defendendo com tenacidade sua sobrevivência e tornando-a célebre com sua santidade. Recebeu na Ordem muitos irmãos\, estes também homens de grande dedicação à vida religiosa\, que tinham São Filipe em conta de mestre e modelo de vida evangélica e de serviço à Virgem Maria. Com razão\, pois\, é tido como um dos Pais da Ordem. Morreu em 1285 em Todi\, na Úmbria\, onde ainda hoje seu corpo é venerado. Foi canonizado por Clemente X em 1671. \nFonte: Servitas Brasil\, 2025. Disponível em: https://servitasbrasil.org/site/maria/liturgia-osm/. Acesso em: 29 Jan 2025
URL:https://igrejasaoperegrinosjc.com.br/event/sao-filipe-benizi/
LOCATION:Igreja São Peregrino\, Avenida São João\, 2600\, São José dos Campos\, São Paulo\, 12242-000\, Brazil
CATEGORIES:Missa
ATTACH;FMTTYPE=image/jpeg:https://igrejasaoperegrinosjc.com.br/wp-content/uploads/2025/01/SaoFilipeBenzi23-08.jpg
END:VEVENT
BEGIN:VEVENT
DTSTART;TZID=America/Sao_Paulo:20250816T190000
DTEND;TZID=America/Sao_Paulo:20250816T203000
DTSTAMP:20260423T191815
CREATED:20250130T223248Z
LAST-MODIFIED:20250130T223248Z
UID:2372-1755370800-1755376200@igrejasaoperegrinosjc.com.br
SUMMARY:Votos Solenes OSM
DESCRIPTION:
URL:https://igrejasaoperegrinosjc.com.br/event/votos-solenes-osm/
LOCATION:Igreja São Peregrino\, Avenida São João\, 2600\, São José dos Campos\, São Paulo\, 12242-000\, Brazil
CATEGORIES:Missa
END:VEVENT
BEGIN:VEVENT
DTSTART;TZID=America/Sao_Paulo:20250815T190000
DTEND;TZID=America/Sao_Paulo:20250815T203000
DTSTAMP:20260423T191815
CREATED:20250130T221625Z
LAST-MODIFIED:20250130T221625Z
UID:2362-1755284400-1755289800@igrejasaoperegrinosjc.com.br
SUMMARY:Assunção de Nossa Senhora e Fundação da Ordem dos Servos de Maria
DESCRIPTION:
URL:https://igrejasaoperegrinosjc.com.br/event/assuncao-de-nossa-senhora-e-fundacao-da-ordem-dos-servos-de-maria/
LOCATION:Igreja São Peregrino\, Avenida São João\, 2600\, São José dos Campos\, São Paulo\, 12242-000\, Brazil
CATEGORIES:Missa
END:VEVENT
BEGIN:VEVENT
DTSTART;TZID=America/Sao_Paulo:20250804T190000
DTEND;TZID=America/Sao_Paulo:20250804T203000
DTSTAMP:20260423T191815
CREATED:20250129T231924Z
LAST-MODIFIED:20250129T231924Z
UID:2247-1754334000-1754339400@igrejasaoperegrinosjc.com.br
SUMMARY:Missa da Saúde
DESCRIPTION:Reúna sua família\, convide seus amigos\, organize a sua caravana e venha participar deste grande momento de Fé!
URL:https://igrejasaoperegrinosjc.com.br/event/missa-da-saude-14/
LOCATION:Igreja São Peregrino\, Avenida São João\, 2600\, São José dos Campos\, São Paulo\, 12242-000\, Brazil
CATEGORIES:Missa da Saúde
ATTACH;FMTTYPE=image/jpeg:https://igrejasaoperegrinosjc.com.br/wp-content/uploads/2025/01/SaoPeregrino.jpeg
END:VEVENT
BEGIN:VEVENT
DTSTART;TZID=America/Sao_Paulo:20250804T150000
DTEND;TZID=America/Sao_Paulo:20250804T163000
DTSTAMP:20260423T191815
CREATED:20250129T231802Z
LAST-MODIFIED:20250129T231802Z
UID:2245-1754319600-1754325000@igrejasaoperegrinosjc.com.br
SUMMARY:Missa da Saúde
DESCRIPTION:Reúna sua família\, convide seus amigos\, organize a sua caravana e venha participar deste grande momento de Fé!
URL:https://igrejasaoperegrinosjc.com.br/event/missa-da-saude-13/
LOCATION:Igreja São Peregrino\, Avenida São João\, 2600\, São José dos Campos\, São Paulo\, 12242-000\, Brazil
CATEGORIES:Missa da Saúde
ATTACH;FMTTYPE=image/jpeg:https://igrejasaoperegrinosjc.com.br/wp-content/uploads/2025/01/SaoPeregrino.jpeg
END:VEVENT
BEGIN:VEVENT
DTSTART;TZID=America/Sao_Paulo:20250715T190000
DTEND;TZID=America/Sao_Paulo:20250715T203000
DTSTAMP:20260423T191815
CREATED:20250130T220125Z
LAST-MODIFIED:20250130T220125Z
UID:2348-1752606000-1752611400@igrejasaoperegrinosjc.com.br
SUMMARY:Ordenação Sacerdotal Frei Rinaldo
DESCRIPTION:
URL:https://igrejasaoperegrinosjc.com.br/event/ordenacao-sacerdotal-frei-rinaldo/
LOCATION:Igreja São Peregrino\, Avenida São João\, 2600\, São José dos Campos\, São Paulo\, 12242-000\, Brazil
CATEGORIES:Missa
END:VEVENT
BEGIN:VEVENT
DTSTART;TZID=America/Sao_Paulo:20250713T180000
DTEND;TZID=America/Sao_Paulo:20250713T190000
DTSTAMP:20260423T191815
CREATED:20250130T221439Z
LAST-MODIFIED:20250130T221439Z
UID:2359-1752429600-1752433200@igrejasaoperegrinosjc.com.br
SUMMARY:Santa Clélia
DESCRIPTION:Clélia nasceu em Le Budrie\, na diocese de Bolonha\, Itália\, aos 13 de fevereiro de 1847. De família pobre\, recebeu\, desde pequena\, esmarada educação. Em 1868\, ela e três companheiras reuniram-se em comunidade\, passando a dedicar-se inteiramente à educação das meninas abandonadas. Morreu em Le Budrie\, em 1870\, quando tinha 23 anos de idade. Seu corpo está aí sepultado e exposto a veneração pública. Foi beatificada por Paulo VI a 27 de outubro de 1968\, e canonizada por João Paulo II a 9 de abril de 1989. Do pequeno grupo inicial\, superadas as dificuldades\, originou-se a Congregação das Irmãs Mínimas de Nossa Senhora das Dores. \nFonte: Servitas Brasil\, 2025. Disponível em: https://servitasbrasil.org/site/maria/liturgia-osm/. Acesso em: 29 Jan 2025
URL:https://igrejasaoperegrinosjc.com.br/event/santa-clelia/
LOCATION:Igreja São Peregrino\, Avenida São João\, 2600\, São José dos Campos\, São Paulo\, 12242-000\, Brazil
CATEGORIES:Missa
ATTACH;FMTTYPE=image/jpeg:https://igrejasaoperegrinosjc.com.br/wp-content/uploads/2025/01/StaClelia13-07.jpg
END:VEVENT
BEGIN:VEVENT
DTSTART;VALUE=DATE:20250711
DTEND;VALUE=DATE:20250714
DTSTAMP:20260423T191815
CREATED:20250130T220905Z
LAST-MODIFIED:20250130T220905Z
UID:2355-1752192000-1752451199@igrejasaoperegrinosjc.com.br
SUMMARY:Festa Junina
DESCRIPTION:
URL:https://igrejasaoperegrinosjc.com.br/event/festa-junina-3/
LOCATION:Igreja São Peregrino\, Avenida São João\, 2600\, São José dos Campos\, São Paulo\, 12242-000\, Brazil
CATEGORIES:Festa Junina
END:VEVENT
BEGIN:VEVENT
DTSTART;TZID=America/Sao_Paulo:20250704T190000
DTEND;TZID=America/Sao_Paulo:20250704T203000
DTSTAMP:20260423T191815
CREATED:20250129T231637Z
LAST-MODIFIED:20250129T231637Z
UID:2243-1751655600-1751661000@igrejasaoperegrinosjc.com.br
SUMMARY:Missa da Saúde
DESCRIPTION:Reúna sua família\, convide seus amigos\, organize a sua caravana e venha participar deste grande momento de Fé!
URL:https://igrejasaoperegrinosjc.com.br/event/missa-da-saude-12/
LOCATION:Igreja São Peregrino\, Avenida São João\, 2600\, São José dos Campos\, São Paulo\, 12242-000\, Brazil
CATEGORIES:Missa da Saúde
ATTACH;FMTTYPE=image/jpeg:https://igrejasaoperegrinosjc.com.br/wp-content/uploads/2025/01/SaoPeregrino.jpeg
END:VEVENT
BEGIN:VEVENT
DTSTART;TZID=America/Sao_Paulo:20250704T150000
DTEND;TZID=America/Sao_Paulo:20250704T163000
DTSTAMP:20260423T191815
CREATED:20250129T231523Z
LAST-MODIFIED:20250129T231523Z
UID:2241-1751641200-1751646600@igrejasaoperegrinosjc.com.br
SUMMARY:Missa da Saúde | Bem-Aventurado Ubaldo de Borgo San Sepolcro
DESCRIPTION:Reúna sua família\, convide seus amigos\, organize a sua caravana e venha participar deste grande momento de Fé!
URL:https://igrejasaoperegrinosjc.com.br/event/missa-da-saude-11/
LOCATION:Igreja São Peregrino\, Avenida São João\, 2600\, São José dos Campos\, São Paulo\, 12242-000\, Brazil
CATEGORIES:Missa da Saúde
ATTACH;FMTTYPE=image/jpeg:https://igrejasaoperegrinosjc.com.br/wp-content/uploads/2025/01/SaoPeregrino.jpeg
END:VEVENT
BEGIN:VEVENT
DTSTART;VALUE=DATE:20250704
DTEND;VALUE=DATE:20250707
DTSTAMP:20260423T191815
CREATED:20250130T220000Z
LAST-MODIFIED:20250130T220000Z
UID:2346-1751587200-1751846399@igrejasaoperegrinosjc.com.br
SUMMARY:Festa Junina
DESCRIPTION:
URL:https://igrejasaoperegrinosjc.com.br/event/festa-junina-2/
LOCATION:Igreja São Peregrino\, Avenida São João\, 2600\, São José dos Campos\, São Paulo\, 12242-000\, Brazil
CATEGORIES:Festa Junina
END:VEVENT
BEGIN:VEVENT
DTSTART;TZID=America/Sao_Paulo:20250701T190000
DTEND;TZID=America/Sao_Paulo:20250701T203000
DTSTAMP:20260423T191815
CREATED:20250130T220437Z
LAST-MODIFIED:20250130T220437Z
UID:2350-1751396400-1751401800@igrejasaoperegrinosjc.com.br
SUMMARY:Bem-Aventurado Fernando Maria Baccilieri
DESCRIPTION:Fernando Maria Baccilieri nasceu aos 14 de maio de 1821 em Campodoso di Reno Finalese\, na região italiana da Emília-Romanha. Quando adolescente alimentava o desejo de pregar o evangelho em terras de missão\, mas\, por motivos de saúde\, não pode realizar seu sonho e\, ordenado presbítero\, exerceu seu ministério pastoral na Itália. Em 1852\, foi nomeado pároco de Galeazza de Pepoli\, diocese de Bolonha. Por 43 anos conduziu esta parórquia com abnegação e generosidade pastoral. Por sua profunda devoação à Virgem Maria inscreveu-se na Ordem Terceira dos Servos de Maria. Para responder às necessidades do povo\, fundou a Congregação das Irmãs Servas de Maria de Galeazza. Morreu aos 13 de julho de 1893\, estimado por todos e com fama de santidade. Foi beatificado em 3 de outubro de 1999 pelo Papa João Paulo II. Seu corpo repousa na igreja de Galezza de Pepoli\, para onde foi transferido em 01 de julho de 1999. \nFonte: Servitas Brasil\, 2025. Disponível em: https://servitasbrasil.org/site/maria/liturgia-osm/. Acesso em: 29 Jan 2025
URL:https://igrejasaoperegrinosjc.com.br/event/bem-aventurado-fernando-maria-baccilieri/
LOCATION:Igreja São Peregrino\, Avenida São João\, 2600\, São José dos Campos\, São Paulo\, 12242-000\, Brazil
CATEGORIES:Missa
ATTACH;FMTTYPE=image/jpeg:https://igrejasaoperegrinosjc.com.br/wp-content/uploads/2025/01/BAFernando01-07.jpg
END:VEVENT
BEGIN:VEVENT
DTSTART;VALUE=DATE:20250701
DTEND;VALUE=DATE:20250702
DTSTAMP:20260423T191815
CREATED:20250130T220528Z
LAST-MODIFIED:20250130T220528Z
UID:2353-1751328000-1751414399@igrejasaoperegrinosjc.com.br
SUMMARY:Aniversário Frei Rinaldo
DESCRIPTION:
URL:https://igrejasaoperegrinosjc.com.br/event/aniversario-frei-rinaldo/
LOCATION:Igreja São Peregrino\, Avenida São João\, 2600\, São José dos Campos\, São Paulo\, 12242-000\, Brazil
CATEGORIES:Missa
END:VEVENT
BEGIN:VEVENT
DTSTART;TZID=America/Sao_Paulo:20250627T190000
DTEND;TZID=America/Sao_Paulo:20250627T200000
DTSTAMP:20260423T191815
CREATED:20250130T215054Z
LAST-MODIFIED:20250130T215054Z
UID:2341-1751050800-1751054400@igrejasaoperegrinosjc.com.br
SUMMARY:Bem-Aventurado Tomás de Orvieto
DESCRIPTION:Tomás nasceu em Orvieto\, na Úmbria\, Itália\, entre o fila do século XIII e o início do século XIV. Movido pelo desejo do céu e pelo amor à Virgem Maria\, entrou na Ordem dos seus Servos\, Por sua disponibilidade em servir a todos\, quis ser apenas irmão leigo. Por muitos anos foi esmoleiro. No sempenho desser serviço\, deu provas de grande caridade e humildade. Por sua intercessão\, Deus operou inúmeros prodígios. Morreu em 1343\, Clemente XIII aprovou seu culto em 1768. \nFonte: Servitas Brasil\, 2025. Disponível em: https://servitasbrasil.org/site/maria/liturgia-osm/. Acesso em: 29 Jan 2025
URL:https://igrejasaoperegrinosjc.com.br/event/bem-aventurado-tomas-de-orvieto/
LOCATION:Igreja São Peregrino\, Avenida São João\, 2600\, São José dos Campos\, São Paulo\, 12242-000\, Brazil
CATEGORIES:Missa
ATTACH;FMTTYPE=image/jpeg:https://igrejasaoperegrinosjc.com.br/wp-content/uploads/2025/01/BATomasOrvieto27-06.jpg
END:VEVENT
BEGIN:VEVENT
DTSTART;VALUE=DATE:20250627
DTEND;VALUE=DATE:20250630
DTSTAMP:20260423T191815
CREATED:20250130T215215Z
LAST-MODIFIED:20250130T215215Z
UID:2344-1750982400-1751241599@igrejasaoperegrinosjc.com.br
SUMMARY:Festa Junina
DESCRIPTION:
URL:https://igrejasaoperegrinosjc.com.br/event/festa-junina/
LOCATION:Igreja São Peregrino\, Avenida São João\, 2600\, São José dos Campos\, São Paulo\, 12242-000\, Brazil
CATEGORIES:Festa Junina
END:VEVENT
BEGIN:VEVENT
DTSTART;TZID=America/Sao_Paulo:20250619T190000
DTEND;TZID=America/Sao_Paulo:20250619T200000
DTSTAMP:20260423T191815
CREATED:20250130T211604Z
LAST-MODIFIED:20250130T211604Z
UID:2304-1750359600-1750363200@igrejasaoperegrinosjc.com.br
SUMMARY:Santa Juliana Falconieri
DESCRIPTION:Juliana\, natural de Florença\, Itália\, atraída pela santidade de vida dos primeiros frade Servos de Maria\, consagrou-se à Deus\, entregando-se à contemplação\, à penitência e às obras de misericórdia. Fazia parte de um grupo de mulheres que\, embora vivendo em suas casas\, usavam o hábito das assim-chamadas “Manteladas” e viviam segundo o estilo de vida dos nossos primeiros frades. Entre elas\, Juliana a tal ponto se destacou que a tradição passou a considerá-la como fundadora do ramo feminino da Ordem. Tinha grade devoção à Mãe do Senhor e amava particularmente a eucaristia. Morreu por volta de 1341. Seu corpo é venerado em Florença\, na basílica da Santíssima Anunciada. Foi proclamada santa por Clemente XII em 1737. \nFonte: Servitas Brasil\, 2025. Disponível em: https://servitasbrasil.org/site/maria/liturgia-osm/. Acesso em: 29 Jan 2025
URL:https://igrejasaoperegrinosjc.com.br/event/santa-juliana-falconieri/
LOCATION:Igreja São Peregrino\, Avenida São João\, 2600\, São José dos Campos\, São Paulo\, 12242-000\, Brazil
CATEGORIES:Missa
ATTACH;FMTTYPE=image/jpeg:https://igrejasaoperegrinosjc.com.br/wp-content/uploads/2025/01/BASanta-Juliana19-06.jpg
END:VEVENT
BEGIN:VEVENT
DTSTART;VALUE=DATE:20250619
DTEND;VALUE=DATE:20250620
DTSTAMP:20260423T191815
CREATED:20250130T214716Z
LAST-MODIFIED:20250130T214716Z
UID:2339-1750291200-1750377599@igrejasaoperegrinosjc.com.br
SUMMARY:Corpus Christi
DESCRIPTION:
URL:https://igrejasaoperegrinosjc.com.br/event/corpus-christi/
LOCATION:Igreja São Peregrino\, Avenida São João\, 2600\, São José dos Campos\, São Paulo\, 12242-000\, Brazil
CATEGORIES:Missa
END:VEVENT
BEGIN:VEVENT
DTSTART;TZID=America/Sao_Paulo:20250608T180000
DTEND;TZID=America/Sao_Paulo:20250608T193000
DTSTAMP:20260423T191815
CREATED:20250130T235648Z
LAST-MODIFIED:20250130T235648Z
UID:2410-1749405600-1749411000@igrejasaoperegrinosjc.com.br
SUMMARY:Domingo de Pentecostes
DESCRIPTION:
URL:https://igrejasaoperegrinosjc.com.br/event/domingo-de-pentecostes/
LOCATION:Igreja São Peregrino\, Avenida São João\, 2600\, São José dos Campos\, São Paulo\, 12242-000\, Brazil
CATEGORIES:Missa
END:VEVENT
BEGIN:VEVENT
DTSTART;TZID=America/Sao_Paulo:20250604T190000
DTEND;TZID=America/Sao_Paulo:20250604T203000
DTSTAMP:20260423T191815
CREATED:20250129T231215Z
LAST-MODIFIED:20250129T231215Z
UID:2239-1749063600-1749069000@igrejasaoperegrinosjc.com.br
SUMMARY:Missa da Saúde
DESCRIPTION:Reúna sua família\, convide seus amigos\, organize a sua caravana e venha participar deste grande momento de Fé!
URL:https://igrejasaoperegrinosjc.com.br/event/missa-da-saude-10/
LOCATION:Igreja São Peregrino\, Avenida São João\, 2600\, São José dos Campos\, São Paulo\, 12242-000\, Brazil
CATEGORIES:Missa da Saúde
ATTACH;FMTTYPE=image/jpeg:https://igrejasaoperegrinosjc.com.br/wp-content/uploads/2025/01/SaoPeregrino.jpeg
END:VEVENT
BEGIN:VEVENT
DTSTART;TZID=America/Sao_Paulo:20250604T150000
DTEND;TZID=America/Sao_Paulo:20250604T163000
DTSTAMP:20260423T191815
CREATED:20250129T231055Z
LAST-MODIFIED:20250129T231055Z
UID:2237-1749049200-1749054600@igrejasaoperegrinosjc.com.br
SUMMARY:Missa da Saúde
DESCRIPTION:Reúna sua família\, convide seus amigos\, organize a sua caravana e venha participar deste grande momento de Fé!
URL:https://igrejasaoperegrinosjc.com.br/event/missa-da-saude-9/
LOCATION:Igreja São Peregrino\, Avenida São João\, 2600\, São José dos Campos\, São Paulo\, 12242-000\, Brazil
CATEGORIES:Missa da Saúde
ATTACH;FMTTYPE=image/jpeg:https://igrejasaoperegrinosjc.com.br/wp-content/uploads/2025/01/SaoPeregrino.jpeg
END:VEVENT
BEGIN:VEVENT
DTSTART;VALUE=DATE:20250602
DTEND;VALUE=DATE:20250609
DTSTAMP:20260423T191815
CREATED:20250130T211825Z
LAST-MODIFIED:20250130T211825Z
UID:2307-1748822400-1749427199@igrejasaoperegrinosjc.com.br
SUMMARY:Cerco de Jericó
DESCRIPTION:
URL:https://igrejasaoperegrinosjc.com.br/event/cerco-de-jerico/
LOCATION:Igreja São Peregrino\, Avenida São João\, 2600\, São José dos Campos\, São Paulo\, 12242-000\, Brazil
CATEGORIES:Missa
END:VEVENT
BEGIN:VEVENT
DTSTART;TZID=America/Sao_Paulo:20250530T190000
DTEND;TZID=America/Sao_Paulo:20250530T200000
DTSTAMP:20260423T191815
CREATED:20250130T005814Z
LAST-MODIFIED:20250130T005814Z
UID:2301-1748631600-1748635200@igrejasaoperegrinosjc.com.br
SUMMARY:Bem-Aventurado Tiago Filipe Bertoni
DESCRIPTION:Nasceu em 1454 na localidade de Celle di Monte Chiaro\, diocese de Faenza\, Itália. Ficou epilético quando tinha dois anos de idade. Seu pai prometeu então consagrá-lo ao Senhore\, caso se curasse. Obtida a graça\, quando o menino completou nove anos de idade\, ofereceu-o a Deus na Ordem dos Servos de Maria. Tiago Filipe distinguiu-se pelo espírito de oração e penitência e pelo amor à Sagrada Escritura e às obras dos Padres da Igreja. Ordenado presbítero\, ao celebrar os divinos mistérios\, irradiava profunda espiritualidade e amor à liturgia. Morreu em 1483. Seu corpo é venerado na catedral de Faenza. Clemente XIII aprovou seu culto em 1761. \nFonte: Servitas Brasil\, 2025. Disponível em: https://servitasbrasil.org/site/maria/liturgia-osm/. Acesso em: 29 Jan 2025
URL:https://igrejasaoperegrinosjc.com.br/event/bem-aventurado-tiago-filipe-bertoni/
LOCATION:Igreja São Peregrino\, Avenida São João\, 2600\, São José dos Campos\, São Paulo\, 12242-000\, Brazil
CATEGORIES:Missa
ATTACH;FMTTYPE=image/jpeg:https://igrejasaoperegrinosjc.com.br/wp-content/uploads/2025/01/BATiagoFilipe30-05.jpg
END:VEVENT
BEGIN:VEVENT
DTSTART;TZID=America/Sao_Paulo:20250512T190000
DTEND;TZID=America/Sao_Paulo:20250512T200000
DTSTAMP:20260423T191815
CREATED:20250130T005439Z
LAST-MODIFIED:20250130T005439Z
UID:2298-1747076400-1747080000@igrejasaoperegrinosjc.com.br
SUMMARY:Bem-Aventurado Francisco de Sena
DESCRIPTION:Francisco nasceu em Sena\, Itália\, em 1266. Aos 22 anos de idade\, ingressou na Ordem dos Servos de Maria. Ordenado presbítero\, distinguiu-sepor sua caridade e pela fidelidade à pregação evangélica e ao ministério do aconselhamento. Dele conserva-se uma “Legenda” (biografia)\, escrita provavelmente por frei Cristovão de Parma\, seu contemporâneo e confidente. Morreu em 1328 e seu corpo é venerado em Sena\, na Igreja dos Servos de Maria. Bento XIV aprovou o seu culto em 1743. \nFonte: Servitas Brasil\, 2025. Disponível em: https://servitasbrasil.org/site/maria/liturgia-osm/. Acesso em: 29 Jan 2025
URL:https://igrejasaoperegrinosjc.com.br/event/bem-aventurado-francisco-de-sena/
LOCATION:Igreja São Peregrino\, Avenida São João\, 2600\, São José dos Campos\, São Paulo\, 12242-000\, Brazil
CATEGORIES:Missa
ATTACH;FMTTYPE=image/jpeg:https://igrejasaoperegrinosjc.com.br/wp-content/uploads/2025/01/BAFranciscodeSena12-05.jpg
END:VEVENT
BEGIN:VEVENT
DTSTART;TZID=America/Sao_Paulo:20250511T100000
DTEND;TZID=America/Sao_Paulo:20250511T113000
DTSTAMP:20260423T191815
CREATED:20250130T005026Z
LAST-MODIFIED:20250130T005026Z
UID:2295-1746957600-1746963000@igrejasaoperegrinosjc.com.br
SUMMARY:Bem-Aventurado Benincasa
DESCRIPTION:Benincasa nasceu em Montepulciano\, na Itália\, por volta de 1375. Ingressou ainda jovem na Ordem dos Servos de Maria e viveu a vida religiosa como eremita e penitente. Morreu por volta de 1426. Seu corpo é venerado na igreja paroquial de São Leopoldo\, em Motechiello. Pio VIII aprovou seu culto em 1829. Fonte: Servitas Brasil\, 2025. Disponível em: https://servitasbrasil.org/site/maria/liturgia-osm/. Acesso em: 29 Jan 2025 \n 
URL:https://igrejasaoperegrinosjc.com.br/event/bem-aventurado-benincasa/
LOCATION:Igreja São Peregrino\, Avenida São João\, 2600\, São José dos Campos\, São Paulo\, 12242-000\, Brazil
CATEGORIES:Missa
ATTACH;FMTTYPE=image/jpeg:https://igrejasaoperegrinosjc.com.br/wp-content/uploads/2025/01/BA_Benincasa11-05.jpg
END:VEVENT
BEGIN:VEVENT
DTSTART;TZID=America/Sao_Paulo:20250504T180000
DTEND;TZID=America/Sao_Paulo:20250504T193000
DTSTAMP:20260423T191815
CREATED:20250129T230816Z
LAST-MODIFIED:20250129T230816Z
UID:2235-1746381600-1746387000@igrejasaoperegrinosjc.com.br
SUMMARY:Missa da Saúde
DESCRIPTION:Reúna sua família\, convide seus amigos\, organize a sua caravana e venha participar deste grande momento de Fé!
URL:https://igrejasaoperegrinosjc.com.br/event/missa-da-saude-8/
LOCATION:Igreja São Peregrino\, Avenida São João\, 2600\, São José dos Campos\, São Paulo\, 12242-000\, Brazil
CATEGORIES:Missa da Saúde
ATTACH;FMTTYPE=image/jpeg:https://igrejasaoperegrinosjc.com.br/wp-content/uploads/2025/01/SaoPeregrino.jpeg
END:VEVENT
BEGIN:VEVENT
DTSTART;TZID=America/Sao_Paulo:20250504T150000
DTEND;TZID=America/Sao_Paulo:20250504T163000
DTSTAMP:20260423T191815
CREATED:20250129T225824Z
LAST-MODIFIED:20250129T225824Z
UID:2232-1746370800-1746376200@igrejasaoperegrinosjc.com.br
SUMMARY:Missa da Saúde
DESCRIPTION:Reúna sua família\, convide seus amigos\, organize a sua caravana e venha participar deste grande momento de Fé!
URL:https://igrejasaoperegrinosjc.com.br/event/missa-da-saude-7/
LOCATION:Igreja São Peregrino\, Avenida São João\, 2600\, São José dos Campos\, São Paulo\, 12242-000\, Brazil
CATEGORIES:Missa da Saúde
ATTACH;FMTTYPE=image/jpeg:https://igrejasaoperegrinosjc.com.br/wp-content/uploads/2025/01/SaoPeregrino.jpeg
END:VEVENT
BEGIN:VEVENT
DTSTART;TZID=America/Sao_Paulo:20250504T100000
DTEND;TZID=America/Sao_Paulo:20250504T113000
DTSTAMP:20260423T191815
CREATED:20250130T004245Z
LAST-MODIFIED:20250130T004245Z
UID:2293-1746352800-1746358200@igrejasaoperegrinosjc.com.br
SUMMARY:Missa da Saúde
DESCRIPTION:Peregrino nasceu em Forli\, na região italiana das Marcas\, por volta de 1265. Quando jovem\, participou fanaticamente das lutas partidárias da sua cidade. Aos 30 anos\, ingressou na Ordem dos Servos de Maria\, no convento de Sena. Voltando mais tarde para Forli\, distinguiu-se pela devoção à Virgem\, pelo amor ao próximo e pelo espírito de penitência. Foi milagrosamente curado de uma chaga na perna. Morreu em 1345 e seu corpo é venerado em Forli\, na basílica dos Servos de Maria\, a ele dedicada. Foi canonizado por Bento XIII em 1726.
URL:https://igrejasaoperegrinosjc.com.br/event/missa-da-saude-23/
LOCATION:Igreja São Peregrino\, Avenida São João\, 2600\, São José dos Campos\, São Paulo\, 12242-000\, Brazil
CATEGORIES:Missa da Saúde
ATTACH;FMTTYPE=image/jpeg:https://igrejasaoperegrinosjc.com.br/wp-content/uploads/2025/01/SaoPeregrino.jpeg
END:VEVENT
BEGIN:VEVENT
DTSTART;TZID=America/Sao_Paulo:20250503T190000
DTEND;TZID=America/Sao_Paulo:20250503T203000
DTSTAMP:20260423T191815
CREATED:20250130T214546Z
LAST-MODIFIED:20250130T214546Z
UID:2337-1746298800-1746304200@igrejasaoperegrinosjc.com.br
SUMMARY:9o. dia Novena São Peregrino
DESCRIPTION:
URL:https://igrejasaoperegrinosjc.com.br/event/9o-dia-novena-sao-peregrino/
LOCATION:Igreja São Peregrino\, Avenida São João\, 2600\, São José dos Campos\, São Paulo\, 12242-000\, Brazil
CATEGORIES:Novena
END:VEVENT
END:VCALENDAR