BEGIN:VCALENDAR
VERSION:2.0
PRODID:-//Igreja São Peregrino - ECPv6.15.20//NONSGML v1.0//EN
CALSCALE:GREGORIAN
METHOD:PUBLISH
X-ORIGINAL-URL:https://igrejasaoperegrinosjc.com.br
X-WR-CALDESC:Eventos para Igreja São Peregrino
REFRESH-INTERVAL;VALUE=DURATION:PT1H
X-Robots-Tag:noindex
X-PUBLISHED-TTL:PT1H
BEGIN:VTIMEZONE
TZID:America/Sao_Paulo
BEGIN:STANDARD
TZOFFSETFROM:-0300
TZOFFSETTO:-0300
TZNAME:-03
DTSTART:20240101T000000
END:STANDARD
END:VTIMEZONE
BEGIN:VEVENT
DTSTART;TZID=America/Sao_Paulo:20250319T150000
DTEND;TZID=America/Sao_Paulo:20250319T170000
DTSTAMP:20260424T035502
CREATED:20250316T232007Z
LAST-MODIFIED:20250316T232007Z
UID:2699-1742396400-1742403600@igrejasaoperegrinosjc.com.br
SUMMARY:São José
DESCRIPTION:Missa em honra a São José e Inauguração do Espaço Saúde e Cozinha
URL:https://igrejasaoperegrinosjc.com.br/event/sao-jose-2/
LOCATION:Igreja São Peregrino\, Avenida São João\, 2600\, São José dos Campos\, São Paulo\, 12242-000\, Brazil
END:VEVENT
BEGIN:VEVENT
DTSTART;TZID=America/Sao_Paulo:20250305T190000
DTEND;TZID=America/Sao_Paulo:20250305T200000
DTSTAMP:20260424T035502
CREATED:20250130T002859Z
LAST-MODIFIED:20250130T002859Z
UID:2285-1741201200-1741204800@igrejasaoperegrinosjc.com.br
SUMMARY:Quarta feira de Cinzas
DESCRIPTION:
URL:https://igrejasaoperegrinosjc.com.br/event/quarta-feira-de-cinzas/
LOCATION:Igreja São Peregrino\, Avenida São João\, 2600\, São José dos Campos\, São Paulo\, 12242-000\, Brazil
CATEGORIES:Missa
END:VEVENT
BEGIN:VEVENT
DTSTART;TZID=America/Sao_Paulo:20250304T190000
DTEND;TZID=America/Sao_Paulo:20250304T203000
DTSTAMP:20260424T035502
CREATED:20250129T225101Z
LAST-MODIFIED:20250129T225101Z
UID:2226-1741114800-1741120200@igrejasaoperegrinosjc.com.br
SUMMARY:Missa da Saúde
DESCRIPTION:Reúna sua família\, convide seus amigos\, organize a sua caravana e venha participar deste grande momento de Fé!
URL:https://igrejasaoperegrinosjc.com.br/event/missa-da-saude-4/
LOCATION:Igreja São Peregrino\, Avenida São João\, 2600\, São José dos Campos\, São Paulo\, 12242-000\, Brazil
CATEGORIES:Missa da Saúde
ATTACH;FMTTYPE=image/jpeg:https://igrejasaoperegrinosjc.com.br/wp-content/uploads/2025/01/SaoPeregrino.jpeg
END:VEVENT
BEGIN:VEVENT
DTSTART;TZID=America/Sao_Paulo:20250304T150000
DTEND;TZID=America/Sao_Paulo:20250304T163000
DTSTAMP:20260424T035502
CREATED:20250129T224949Z
LAST-MODIFIED:20250129T224949Z
UID:2224-1741100400-1741105800@igrejasaoperegrinosjc.com.br
SUMMARY:Missa da Saúde
DESCRIPTION:Reúna sua família\, convide seus amigos\, organize a sua caravana e venha participar deste grande momento de Fé!
URL:https://igrejasaoperegrinosjc.com.br/event/missa-da-saude-3/
LOCATION:Igreja São Peregrino\, Avenida São João\, 2600\, São José dos Campos\, São Paulo\, 12242-000\, Brazil
CATEGORIES:Missa da Saúde
ATTACH;FMTTYPE=image/jpeg:https://igrejasaoperegrinosjc.com.br/wp-content/uploads/2025/01/SaoPeregrino.jpeg
END:VEVENT
BEGIN:VEVENT
DTSTART;TZID=America/Sao_Paulo:20250219T190000
DTEND;TZID=America/Sao_Paulo:20250219T200000
DTSTAMP:20260424T035502
CREATED:20250130T002722Z
LAST-MODIFIED:20250130T002722Z
UID:2282-1739991600-1739995200@igrejasaoperegrinosjc.com.br
SUMMARY:Bem-Aventurada Isabel Picenardi
DESCRIPTION:Isabel nasceu por vota de 1428\, provavelmente em Cremona\, na Itália. Frequentava a igreja de São Barnabé\, dos Servos de Maria\, em Mântua. Consagrou-se ao Senhor e recebeu o hábito de terciária da nossa Ordem\, que ela amava com predileção especial. De fato\, no testamento escrito um ano antes da morte\, ela deixou em herança aos frades seu breviário\, e à igreja\, trezentos ducados. Tinha grande amor à eucaristia e à Mãe de Deus. Seu corpo\, sepultado na igreja de São Barnabé\, depois da supressão do convento\, foi transladado para a vila de “Tor dei Picenardi”\, em Cremona. \nFonte: Servitas Brasil\, 2025. Disponível em: https://servitasbrasil.org/site/maria/liturgia-osm/. Acesso em: 29 Jan 2025
URL:https://igrejasaoperegrinosjc.com.br/event/bem-aventurada-isabel-picenardi/
LOCATION:Igreja São Peregrino\, Avenida São João\, 2600\, São José dos Campos\, São Paulo\, 12242-000\, Brazil
CATEGORIES:Missa
ATTACH;FMTTYPE=image/jpeg:https://igrejasaoperegrinosjc.com.br/wp-content/uploads/2025/01/BA_Isabel19-02.jpg
END:VEVENT
BEGIN:VEVENT
DTSTART;TZID=America/Sao_Paulo:20250217T190000
DTEND;TZID=America/Sao_Paulo:20250217T200000
DTSTAMP:20260424T035502
CREATED:20250130T001441Z
LAST-MODIFIED:20250130T001441Z
UID:2273-1739818800-1739822400@igrejasaoperegrinosjc.com.br
SUMMARY:Sete Santos Fundadores
DESCRIPTION:Nossos Sete Primeiros Pais nasceram em Florença. Dedicavam-se juntos à oração e às obras de misericórdia. A certa altura\, movidos pelo firme propósito de servir só a Deus\, abandonaram suas atividades comerciais e famílias\, e foram viver juntos fora dos muros da cidade. Por volta de 1245\, retiraram-se para Monte Senário\, onde por algum tempo viveram como eremitas. Depois\, vindo a juntar-se a eles outros irmãos\, deram início à Ordem. Fonte: Servitas Brasil\, 2025. Disponível em: https://servitasbrasil.org/site/maria/liturgia-osm/. Acesso em: 29 Jan 2025
URL:https://igrejasaoperegrinosjc.com.br/event/sete-santos-fundadores/
LOCATION:Igreja São Peregrino\, Avenida São João\, 2600\, São José dos Campos\, São Paulo\, 12242-000\, Brazil
CATEGORIES:Missa
ATTACH;FMTTYPE=image/jpeg:https://igrejasaoperegrinosjc.com.br/wp-content/uploads/2025/01/SeteSantosFundadores17-02.jpg
END:VEVENT
BEGIN:VEVENT
DTSTART;TZID=America/Sao_Paulo:20250204T190000
DTEND;TZID=America/Sao_Paulo:20250204T203000
DTSTAMP:20260424T035502
CREATED:20250129T224722Z
LAST-MODIFIED:20250129T224722Z
UID:2222-1738695600-1738701000@igrejasaoperegrinosjc.com.br
SUMMARY:Missa da Saúde
DESCRIPTION:Reúna sua família\, convide seus amigos\, organize a sua caravana e venha participar deste grande momento de Fé!
URL:https://igrejasaoperegrinosjc.com.br/event/missa-da-saude-2/
LOCATION:Igreja São Peregrino\, Avenida São João\, 2600\, São José dos Campos\, São Paulo\, 12242-000\, Brazil
CATEGORIES:Missa da Saúde
ATTACH;FMTTYPE=image/jpeg:https://igrejasaoperegrinosjc.com.br/wp-content/uploads/2025/01/SaoPeregrino.jpeg
END:VEVENT
BEGIN:VEVENT
DTSTART;TZID=America/Sao_Paulo:20250204T150000
DTEND;TZID=America/Sao_Paulo:20250204T163000
DTSTAMP:20260424T035502
CREATED:20250129T224505Z
LAST-MODIFIED:20250129T224505Z
UID:2218-1738681200-1738686600@igrejasaoperegrinosjc.com.br
SUMMARY:Missa da Saúde
DESCRIPTION:Reúna sua família\, convide seus amigos\, organize a sua caravana e venha participar deste grande momento de Fé!
URL:https://igrejasaoperegrinosjc.com.br/event/missa-da-saude/
LOCATION:Igreja São Peregrino\, Avenida São João\, 2600\, São José dos Campos\, São Paulo\, 12242-000\, Brazil
CATEGORIES:Missa da Saúde
ATTACH;FMTTYPE=image/jpeg:https://igrejasaoperegrinosjc.com.br/wp-content/uploads/2025/01/SaoPeregrino.jpeg
END:VEVENT
BEGIN:VEVENT
DTSTART;TZID=America/Sao_Paulo:20250203T190000
DTEND;TZID=America/Sao_Paulo:20250203T200000
DTSTAMP:20260424T035502
CREATED:20250130T000638Z
LAST-MODIFIED:20250130T000638Z
UID:2268-1738609200-1738612800@igrejasaoperegrinosjc.com.br
SUMMARY:Bem-Aventurado Joaquim de Sena
DESCRIPTION:Nascido em Sena\, Itália\, em 1258\, quando tinha apenas 14 anos de idade foi recebido na Ordem dos Servos de Maria por São Felipe. Viveu sempre nos conventos de Sena e de Arezzo\, distinguindo-se pela devoção à Virgem Maria e por sua humildade e caridade. A tal ponto amou o próximo que\, certa vez\, ao tentar em vão consolar um epilético\, tomou sobre si a sua enfermidade. Morreu em 1395. Seu corpo é venerado em Sena\, na igreja de São Clemente\, dos Servos de Maria. Ainda hoje\, as mães levam as crianças recém-nascidas ao altar do Bem-aventurado Joaquim\, para invocar sobre elas sua proteção. Em 1609\, Paulo V aprovou a Missa e o Ofício próprios. \nFonte: Servitas Brasil\, 2025. Disponível em: https://servitasbrasil.org/site/maria/liturgia-osm/. Acesso em: 29 Jan 2025
URL:https://igrejasaoperegrinosjc.com.br/event/bem-aventurado-joaquim-de-sena-2/
LOCATION:Igreja São Peregrino\, Avenida São João\, 2600\, São José dos Campos\, São Paulo\, 12242-000\, Brazil
CATEGORIES:Missa
ATTACH;FMTTYPE=image/jpeg:https://igrejasaoperegrinosjc.com.br/wp-content/uploads/2025/01/BAJoaquimdeSena03-02.jpg
END:VEVENT
END:VCALENDAR